BEGIN:VCALENDAR
VERSION:2.0
PRODID:-//Tukios.com/
BEGIN:VEVENT
UID:fc58eb93-be4d-4567-aa2a-17a24141ae4c@www.masonfuneralhomes.com
DTSTAMP:20260420T222541Z
DTSTART:20260422T190000Z
DTEND:20260422T200000Z
SUMMARY:Funeral Service
DESCRIPTION:
URL:https://www.masonfuneralhomes.com/obituaries/shirley-sadler
LOCATION:Mason-White Funeral Home 20 Valley Forge Dr  Washington IL 61571
GEO:40.7016847;-89.4238503
END:VEVENT
END:VCALENDAR