BEGIN:VCALENDAR
VERSION:2.0
PRODID:-//Tukios.com/
BEGIN:VEVENT
UID:b88451dd-0c2d-4e0e-afeb-600469f6cf0b@www.masonfuneralhomes.com
DTSTAMP:20260420T222541Z
DTSTART:20260422T180000Z
DTEND:20260422T190000Z
SUMMARY:Visitation
DESCRIPTION:
URL:https://www.masonfuneralhomes.com/obituaries/shirley-sadler
LOCATION:Mason-White Funeral Home 20 Valley Forge Dr  Washington IL 61571
GEO:40.7016847;-89.4238503
END:VEVENT
END:VCALENDAR